BEGIN:VCALENDAR
VERSION:2.0
PRODID:-//Talks.cam//talks.cam.ac.uk//
X-WR-CALNAME:Talks.cam
BEGIN:VEVENT
SUMMARY:The Ramsey Number of the Clique and the Hypercube - Simon Griffith
 s (Oxford)
DTSTART:20140130T143000Z
DTEND:20140130T153000Z
UID:TALK50081@talks.cam.ac.uk
CONTACT:Leader
DESCRIPTION:Abstract not available
LOCATION:MR12
END:VEVENT
END:VCALENDAR
