BEGIN:VCALENDAR
VERSION:2.0
PRODID:-//Talks.cam//talks.cam.ac.uk//
X-WR-CALNAME:Talks.cam
BEGIN:VEVENT
SUMMARY:Probing cosmic motion: new technique with kinetic SZ effect - Dais
 y Mak (IoA/KICC)
DTSTART:20140129T131500Z
DTEND:20140129T134500Z
UID:TALK50225@talks.cam.ac.uk
CONTACT:28811
DESCRIPTION:Abstract not available
LOCATION:Sackler Lecture Theatre\, IoA
END:VEVENT
END:VCALENDAR
