BEGIN:VCALENDAR
VERSION:2.0
PRODID:-//Talks.cam//talks.cam.ac.uk//
X-WR-CALNAME:Talks.cam
BEGIN:VEVENT
SUMMARY:Robust monitoring of CAPM portfolios beta - Huskov\, M (Charles Un
 iversity\, Prague)
DTSTART:20140122T113000Z
DTEND:20140122T123000Z
UID:TALK50242@talks.cam.ac.uk
CONTACT:Mustapha Amrani
DESCRIPTION:2014/01/22
LOCATION:Seminar Room 2\, Newton Institute Gatehouse
END:VEVENT
END:VCALENDAR
