BEGIN:VCALENDAR
VERSION:2.0
PRODID:-//Talks.cam//talks.cam.ac.uk//
X-WR-CALNAME:Talks.cam
BEGIN:VEVENT
SUMMARY:Nonlinear eigenvalue problems for nonhomegenous differential opera
 tors - Radulescu\, V (Mathematics Institute of the Romanian Academy)
DTSTART:20140122T140000Z
DTEND:20140122T150000Z
UID:TALK50337@talks.cam.ac.uk
CONTACT:Mustapha Amrani
DESCRIPTION:We establish some concentration properties for various classes
  of nonlinear eigenvalue problems with variable exponent. These striking p
 henomena are due to the combined effect of several terms\, a crucial role 
 being the presence of one or several unusual nonlinearities. The treatment
  is mainly variational and the problems are inspired by models in electror
 heological fluids and image processing.\n\n\n
LOCATION:Seminar Room 2\, Newton Institute Gatehouse
END:VEVENT
END:VCALENDAR
