BEGIN:VCALENDAR
VERSION:2.0
PRODID:-//Talks.cam//talks.cam.ac.uk//
X-WR-CALNAME:Talks.cam
BEGIN:VEVENT
SUMMARY:The method of entropy calculations for biochemical bonds - Shane L
 awrence (Earth Sciences)
DTSTART:20140226T110000Z
DTEND:20140226T114000Z
UID:TALK50464@talks.cam.ac.uk
CONTACT:Dr. Mike Towler
DESCRIPTION:Entropy calculations are still important for new methods that 
 are developing for the colour analysis of biochemical reactions. Such meth
 ods of calculation give an insight into the atomic level activity within a
 ny given biochemical reaction. These methods of interpreting entropy are i
 mportant and continually being developed in Europe and USA this year of 20
 14.
LOCATION:TCM Seminar Room\, Cavendish Laboratory
END:VEVENT
END:VCALENDAR
