BEGIN:VCALENDAR
VERSION:2.0
PRODID:-//Talks.cam//talks.cam.ac.uk//
X-WR-CALNAME:Talks.cam
BEGIN:VEVENT
SUMMARY:Advancing Intersectionality Theory Through Realist Ontology - Ange
 la Martinez Dy\, Nottingham University Business School
DTSTART:20140210T123000Z
DTEND:20140210T133000Z
UID:TALK50557@talks.cam.ac.uk
CONTACT:16895
DESCRIPTION:The Multi-disciplinary Gender Research Seminars offer academic
 s and graduate students an opportunity to present their work-in-progress t
 o a multi-disciplinary audience interested in gender\, in a friendly and i
 nformal atmosphere.
LOCATION:Lightfoot Room\, Divinity School\, St John's College\, Cambridge\
 , CB2 1TP
END:VEVENT
END:VCALENDAR
