BEGIN:VCALENDAR
VERSION:2.0
PRODID:-//Talks.cam//talks.cam.ac.uk//
X-WR-CALNAME:Talks.cam
BEGIN:VEVENT
SUMMARY:Regularity of optima transport maps and applications - Guido De Ph
 ilippis (University of  Zurich)
DTSTART:20140205T130000Z
DTEND:20140205T134500Z
UID:TALK50601@talks.cam.ac.uk
CONTACT:HoD Secretary\, DPMMS
DESCRIPTION:I will give a (brief) survey on Optimal Transportation theory 
 and I will present some\nrecent results concerning the regularity of optim
 al maps and some of their applications.
LOCATION:CMS\, MR12
END:VEVENT
END:VCALENDAR
