BEGIN:VCALENDAR
VERSION:2.0
PRODID:-//Talks.cam//talks.cam.ac.uk//
X-WR-CALNAME:Talks.cam
BEGIN:VEVENT
SUMMARY:The relevance of botanic garden greenhouses in the modern era - Al
 exander Summers\, Botanic Garden
DTSTART:20140130T130000Z
DTEND:20140130T140000Z
UID:TALK50642@talks.cam.ac.uk
CONTACT:32640
DESCRIPTION:Our first speaker this term Alex Summers is the Glasshouse Sup
 ervisor at Cambridge University Botanic Gardens\, he has trained and worke
 d in gardens and glasshouses both in the UK and the the USA. He will consi
 der the relevance of glasshouses in the modern botanic garden\, giving an 
 overview of their history and considering their value in the current era.\
 n\nThe first talk of this term is kicking off on **THURSDAY 30TH JAN*** an
 d will now be held in Pembroke College Room N7. The majority of talks this
  term are going to focus on the issues of biodiversity and deforestation.
LOCATION:Room N7\, Pembroke College
END:VEVENT
END:VCALENDAR
