BEGIN:VCALENDAR
VERSION:2.0
PRODID:-//Talks.cam//talks.cam.ac.uk//
X-WR-CALNAME:Talks.cam
BEGIN:VEVENT
SUMMARY:Talking Trans Rights  - Speaker to be confirmed
DTSTART:20140225T183000Z
DTEND:20140225T200000Z
UID:TALK50879@talks.cam.ac.uk
CONTACT:Miriam Berg
DESCRIPTION:This panel discussion will involve three trans activists takin
 g to the stage to describe their positions on trans rights and exploring s
 ome of the issues faced by trans people. This will be followed by an audie
 nce Q&A. Panel members are Sarah Gibson\, Cambridge University Students Un
 ion\; Sarah Brown\, Cambridge City Council\; Sam Feeney\, Encompass. Prese
 nted by Anglia Ruskin University. The event is presented by Anglia Ruskin 
 University as part of LGBT History Month. Free event\, please pre-book at 
 www.anglia.ac.uk/communityevents. \n
LOCATION:Anglia Ruskin University\, East Road\, Cambridge CB1 1PT
END:VEVENT
END:VCALENDAR
