BEGIN:VCALENDAR
VERSION:2.0
PRODID:-//Talks.cam//talks.cam.ac.uk//
X-WR-CALNAME:Talks.cam
BEGIN:VEVENT
SUMMARY:Sustainable Automation - Dr Ioannis Brilakis (CUED)
DTSTART:20140317T130000Z
DTEND:20140317T150000Z
UID:TALK51146@talks.cam.ac.uk
CONTACT:Charles Collis
DESCRIPTION:Sixth session in series\n\nIoannis Brilakis will be discussing
  his relevant research interests
LOCATION:CBL Meeting Room (BE4-38\, Dept. of Engineering)
END:VEVENT
END:VCALENDAR
