BEGIN:VCALENDAR
VERSION:2.0
PRODID:-//Talks.cam//talks.cam.ac.uk//
X-WR-CALNAME:Talks.cam
BEGIN:VEVENT
SUMMARY:Evolution and development of early land plant rooting systems - Pr
 of Liam Dolan\, Sherardian Professor of Botany\, University of Oxford
DTSTART:20140514T150000Z
DTEND:20140514T160000Z
UID:TALK51218@talks.cam.ac.uk
CONTACT:Helen Mawdsley
DESCRIPTION:\n
LOCATION:Auditorium of The Sainsbury Laboratory (Bateman Street)
END:VEVENT
END:VCALENDAR
