BEGIN:VCALENDAR
VERSION:2.0
PRODID:-//Talks.cam//talks.cam.ac.uk//
X-WR-CALNAME:Talks.cam
BEGIN:VEVENT
SUMMARY:Mapping the research landscape: citations\, bibliometrics and all 
 that - Yvonne Nobis\, University Library
DTSTART:20140314T100000Z
DTEND:20140314T120000Z
UID:TALK51311@talks.cam.ac.uk
CONTACT:Mark Hayes
DESCRIPTION:How do I find my way around the research literature in my fiel
 d? How\ndo I evaluate its relevance and importance? How can I maximise the
 \nvisibility and impact of my own publications? I will review some\nanswer
 s to these questions and introduce some online tools you can\napply direct
 ly in your own research.
LOCATION:Ryle Seminar Room\, Rutherford Building\, Cavendish Laboratory\, 
 Department of Physics
END:VEVENT
END:VCALENDAR
