BEGIN:VCALENDAR
VERSION:2.0
PRODID:-//Talks.cam//talks.cam.ac.uk//
X-WR-CALNAME:Talks.cam
BEGIN:VEVENT
SUMMARY:Meditation Session at the Botanic Gardens  - Speaker to be confirm
 ed
DTSTART:20140623T163000Z
DTEND:20140623T170000Z
UID:TALK51465@talks.cam.ac.uk
CONTACT:Equality &amp\; Diversity
DESCRIPTION:Meditation Session\n\nCome and enjoy a free relaxing session o
 f meditation in the serene Botanical Gardens. The meditation will be hoste
 d by the Innerspace Centre\, Cambridge. \nPeople attending this session wi
 ll be able to access and exit the classroom via the cycle park on Bateman 
 Street.\n\nGroups of 20 people.\n\nMeditation participants who would like 
 to stay on and enjoy the Botanical Gardens Tour\, qualify for a discounted
  price of £4.50 entrance fee into the gardens. Please book separately for
  this on the Botanical Garden Tour link. \n\n*To book a place\, please vis
 it:http://botanicalgardenmeditation.eventbrite.co.uk *
LOCATION:Botantical Gardens - Bateman Street entrance via cycle path
END:VEVENT
END:VCALENDAR
