BEGIN:VCALENDAR
VERSION:2.0
PRODID:-//Talks.cam//talks.cam.ac.uk//
X-WR-CALNAME:Talks.cam
BEGIN:VEVENT
SUMMARY:Regulation of virally-induced lung inflammation by interferons - D
 r Cecilia Johansson\, Imperial College London
DTSTART:20140611T113000Z
DTEND:20140611T123000Z
UID:TALK51529@talks.cam.ac.uk
CONTACT:Sue Griffin
DESCRIPTION:Abstract not available
LOCATION:Lecture Theatre\, Department of Pathology\, Tennis Court Road
END:VEVENT
END:VCALENDAR
