BEGIN:VCALENDAR
VERSION:2.0
PRODID:-//Talks.cam//talks.cam.ac.uk//
X-WR-CALNAME:Talks.cam
BEGIN:VEVENT
SUMMARY:On the origins of mycorrhizal symbioses - Martin Bidartondo\, Divi
 sion of Biology\, Imperial College London &amp\; The Royal Botanic Gardens
 \, Kew
DTSTART:20140430T150000Z
DTEND:20140430T160000Z
UID:TALK51560@talks.cam.ac.uk
CONTACT:Helen Mawdsley
DESCRIPTION:Abstract not available
LOCATION:Auditorium of The Sainsbury Laboratory (Bateman Street)
END:VEVENT
END:VCALENDAR
