BEGIN:VCALENDAR
VERSION:2.0
PRODID:-//Talks.cam//talks.cam.ac.uk//
X-WR-CALNAME:Talks.cam
BEGIN:VEVENT
SUMMARY:“Can You Polish A Kidney?” - Dr Adam Barlow on behalf of Dr To
 rpey 
DTSTART:20140331T120000Z
DTEND:20140331T123000Z
UID:TALK51786@talks.cam.ac.uk
CONTACT:Jason Lynch
DESCRIPTION:Abstract not available
LOCATION:William Harvey Lecture Theatre
END:VEVENT
END:VCALENDAR
