BEGIN:VCALENDAR
VERSION:2.0
PRODID:-//Talks.cam//talks.cam.ac.uk//
X-WR-CALNAME:Talks.cam
BEGIN:VEVENT
SUMMARY:Martin Thompson and Rich Merrill - Speaker to be confirmed
DTSTART:20140527T090000Z
DTEND:20140527T103000Z
UID:TALK51814@talks.cam.ac.uk
CONTACT:John Davey
DESCRIPTION:Abstract not available
LOCATION:First Floor Seminar Room\, Department of Zoology
END:VEVENT
END:VCALENDAR
