BEGIN:VCALENDAR
VERSION:2.0
PRODID:-//Talks.cam//talks.cam.ac.uk//
X-WR-CALNAME:Talks.cam
BEGIN:VEVENT
SUMMARY:Title to be confirmed - Speaker to be confirmed
DTSTART:20060821T131500Z
DTEND:20060821T141500Z
UID:TALK5208@talks.cam.ac.uk
CONTACT:Dr Kalin Dragnevski
DESCRIPTION:Abstract not available
LOCATION:IRC in Superconductivity Seminar Room\, Cavendish Laboratory
END:VEVENT
END:VCALENDAR
