BEGIN:VCALENDAR
VERSION:2.0
PRODID:-//Talks.cam//talks.cam.ac.uk//
X-WR-CALNAME:Talks.cam
BEGIN:VEVENT
SUMMARY:tba - Andrieu\, C (University of Bristol)
DTSTART:20140422T081500Z
DTEND:20140422T091500Z
UID:TALK52085@talks.cam.ac.uk
CONTACT:Mustapha Amrani
DESCRIPTION:2014/04/22
LOCATION:Seminar Room 1\, Newton Institute
END:VEVENT
END:VCALENDAR
