BEGIN:VCALENDAR
VERSION:2.0
PRODID:-//Talks.cam//talks.cam.ac.uk//
X-WR-CALNAME:Talks.cam
BEGIN:VEVENT
SUMMARY:Standard Clock in Primordial Density Perturbations and Cosmic Micr
 owave Background - Xingang Chen (UT Dallas)
DTSTART:20140521T124500Z
DTEND:20140521T131500Z
UID:TALK52247@talks.cam.ac.uk
CONTACT:Bethan James
DESCRIPTION:Abstract not available
LOCATION:Sackler Lecture Theatre\, IoA
END:VEVENT
END:VCALENDAR
