BEGIN:VCALENDAR
VERSION:2.0
PRODID:-//Talks.cam//talks.cam.ac.uk//
X-WR-CALNAME:Talks.cam
BEGIN:VEVENT
SUMMARY:Title to be confirmed - Dr Andrew Moore (Cambridge University Comp
 uter Laboratory)
DTSTART:20140506T120000Z
DTEND:20140506T130000Z
UID:TALK52346@talks.cam.ac.uk
CONTACT:Ionel Gog
DESCRIPTION:Abstract not available
LOCATION:Computer Laboratory\, William Gates Building\, Room FW11
END:VEVENT
END:VCALENDAR
