BEGIN:VCALENDAR
VERSION:2.0
PRODID:-//Talks.cam//talks.cam.ac.uk//
X-WR-CALNAME:Talks.cam
BEGIN:VEVENT
SUMMARY:Strong lensing tomography: Cosmological constraints from the doubl
 e source plane lens SDSSJ0946+1006 - Tom Collett (IoA)
DTSTART:20140514T124500Z
DTEND:20140514T131500Z
UID:TALK52491@talks.cam.ac.uk
CONTACT:28811
DESCRIPTION:Abstract not available
LOCATION:Sackler Lecture Theatre\, IoA
END:VEVENT
END:VCALENDAR
