BEGIN:VCALENDAR
VERSION:2.0
PRODID:-//Talks.cam//talks.cam.ac.uk//
X-WR-CALNAME:Talks.cam
BEGIN:VEVENT
SUMMARY:Doppler detection of multi-planet systems in the presence of noise
 : limits and challenges - Dr. Guillem Anglada-Escude (QMUL)
DTSTART:20141027T160000Z
DTEND:20141027T170000Z
UID:TALK52593@talks.cam.ac.uk
CONTACT:Adrian Barker
DESCRIPTION:Abstract not available
LOCATION:MR14\,  Centre for Mathematical Sciences\, Wilberforce Road\, Cam
 bridge
END:VEVENT
END:VCALENDAR
