BEGIN:VCALENDAR
VERSION:2.0
PRODID:-//Talks.cam//talks.cam.ac.uk//
X-WR-CALNAME:Talks.cam
BEGIN:VEVENT
SUMMARY:The Impact of Gender  - Including: Alison Saunders\, Director of P
 rosecutions &amp\; Olympian\, Anna Watkins
DTSTART:20140619T130000Z
DTEND:20140619T150000Z
UID:TALK52598@talks.cam.ac.uk
CONTACT:Equality &amp\; Diversity
DESCRIPTION:Hosted by the Vice Chancellor\, the Impact of Gender will revi
 ew the work of the University in progressing gender equality and explore t
 he career experiences and perspectives of contributors. \n\nSpeakers inclu
 de:\n* Director of Public Prosecutions\, Alison Saunders\n* Olympian\, Ann
 a Watkins\n* Author of ‘The Meaning of Success’\, Jo Bostock\n* Univer
 sity Gender Equality Champion\, Professor Dame Athene Donald\n* Pro Vice C
 hancellor (Institutional Affairs)\, Professor Jeremy Sanders\n* The Vice C
 hancellor\, Professor Sir Leszek Borysiewicz\n\n*To book a place\, please 
 visit: http://impactofgender.eventbrite.co.uk *\n\nIf you have any questio
 ns about access or individual needs please contact Diane Jeffery on diane.
 jeffery@admin.cam.ac.uk  or on (01223) 765 304\n
LOCATION:Senate House Lawn (The Old Schools)\, Senate House Hill\, Cambrid
 ge
END:VEVENT
END:VCALENDAR
