BEGIN:VCALENDAR
VERSION:2.0
PRODID:-//Talks.cam//talks.cam.ac.uk//
X-WR-CALNAME:Talks.cam
BEGIN:VEVENT
SUMMARY:TBC - Dr Sinead English\, University of Oxford
DTSTART:20150210T160000Z
DTEND:20150210T170000Z
UID:TALK53208@talks.cam.ac.uk
CONTACT:Dr Hannah Rowland
DESCRIPTION:Abstract not available
LOCATION:Part II Lecture Theatre\, Department of Zoology
END:VEVENT
END:VCALENDAR
