BEGIN:VCALENDAR
VERSION:2.0
PRODID:-//Talks.cam//talks.cam.ac.uk//
X-WR-CALNAME:Talks.cam
BEGIN:VEVENT
SUMMARY:Limiting distributions of translates of curves on homogeneous spac
 es - Shah\, N (Ohio State University)
DTSTART:20140703T140000Z
DTEND:20140703T145000Z
UID:TALK53298@talks.cam.ac.uk
CONTACT:Mustapha Amrani
DESCRIPTION:We show that in various cases\, under natural conditions\, lim
 its of translates of pieces of curves on homogeneous spaces get equidistri
 buted in the whole space. These type of results have applications to dioph
 antine approximation.\n\n
LOCATION:Seminar Room 1\, Newton Institute
END:VEVENT
END:VCALENDAR
