BEGIN:VCALENDAR
VERSION:2.0
PRODID:-//Talks.cam//talks.cam.ac.uk//
X-WR-CALNAME:Talks.cam
BEGIN:VEVENT
SUMMARY:“From Cells to Seizures: Intrinsic Changes in Sodium Channel Exp
 ression and Activity in Epilepsy.”  - Professor Manoj Patel - University
  of Virginia Health Science Center
DTSTART:20140710T100000Z
DTEND:20140710T110000Z
UID:TALK53328@talks.cam.ac.uk
CONTACT:Tony Jackson
DESCRIPTION:Abstract not available
LOCATION:Department of Biochemistry - Sanger Building\, Seminar Room
END:VEVENT
END:VCALENDAR
