BEGIN:VCALENDAR
VERSION:2.0
PRODID:-//Talks.cam//talks.cam.ac.uk//
X-WR-CALNAME:Talks.cam
BEGIN:VEVENT
SUMMARY:Stability of periodic travelling waves of the water wave problem i
 n one dimension - Trichtchenko\, O (University of Washington)
DTSTART:20140716T130000Z
DTEND:20140716T140000Z
UID:TALK53411@talks.cam.ac.uk
CONTACT:Mustapha Amrani
DESCRIPTION:2014/07/16
LOCATION:Seminar Room 1\, Newton Institute
END:VEVENT
END:VCALENDAR
