BEGIN:VCALENDAR
VERSION:2.0
PRODID:-//Talks.cam//talks.cam.ac.uk//
X-WR-CALNAME:Talks.cam
BEGIN:VEVENT
SUMMARY:Lab meeting - Sohini and Kzrystof
DTSTART:20140812T090000Z
DTEND:20140812T103000Z
UID:TALK53434@talks.cam.ac.uk
CONTACT:Chris Jiggins
DESCRIPTION:Abstract not available
LOCATION:First Floor Seminar Room\, Department of Zoology
END:VEVENT
END:VCALENDAR
