BEGIN:VCALENDAR
VERSION:2.0
PRODID:-//Talks.cam//talks.cam.ac.uk//
X-WR-CALNAME:Talks.cam
BEGIN:VEVENT
SUMMARY:The Instability of Astrophysics - Professor Martin Harwit (Cornell
  University)
DTSTART:20140718T103000Z
DTEND:20140718T113000Z
UID:TALK53450@talks.cam.ac.uk
CONTACT:Judith Moss
DESCRIPTION:Abstract not available
LOCATION:Sackler Lecture Theatre\, Institute of Astronomy
END:VEVENT
END:VCALENDAR
