BEGIN:VCALENDAR
VERSION:2.0
PRODID:-//Talks.cam//talks.cam.ac.uk//
X-WR-CALNAME:Talks.cam
BEGIN:VEVENT
SUMMARY:Recent progress in circuit QED - Jiang\, L (Yale University)
DTSTART:20140725T130000Z
DTEND:20140725T133000Z
UID:TALK53566@talks.cam.ac.uk
CONTACT:Mustapha Amrani
DESCRIPTION:2014/07/25
LOCATION:Seminar Room 2\, Newton Institute Gatehouse
END:VEVENT
END:VCALENDAR
