BEGIN:VCALENDAR
VERSION:2.0
PRODID:-//Talks.cam//talks.cam.ac.uk//
X-WR-CALNAME:Talks.cam
BEGIN:VEVENT
SUMMARY:The Sharing Economy - Yuan Sheng
DTSTART:20140915T150000Z
DTEND:20140915T160000Z
UID:TALK53635@talks.cam.ac.uk
CONTACT:Nalin Patel
DESCRIPTION:Winton Scholar\, Yuan Sheng will introduce some aspects of the
  'Sharing Economy'\, which is becoming a popular movement.  There will be 
 plenty of time for informal discussions over some refreshments.
LOCATION:TCM Seminar room\, 530 Mott
END:VEVENT
END:VCALENDAR
