BEGIN:VCALENDAR
VERSION:2.0
PRODID:-//Talks.cam//talks.cam.ac.uk//
X-WR-CALNAME:Talks.cam
BEGIN:VEVENT
SUMMARY:Evolution of Mobile Network Infrastructure - Peter Shiret\, Shiret
  Ltd
DTSTART:20141211T183000Z
DTEND:20141211T200000Z
UID:TALK53726@talks.cam.ac.uk
CONTACT:Tim Wilkinson
DESCRIPTION:The evolution of Mobile Network Infrastructure from 2G to 4G\,
  covering integration and interconnection of the network elements (and Int
 er-operability) and the challenges within the network transport system as 
 it migrates to an all IP solution (TDM/PDH/SDH to IP).
LOCATION:Lecture Theatre 0\, University of Cambridge Engineering Departmen
 t\, Trumpington Street\, Cambridge
END:VEVENT
END:VCALENDAR
