BEGIN:VCALENDAR
VERSION:2.0
PRODID:-//Talks.cam//talks.cam.ac.uk//
X-WR-CALNAME:Talks.cam
BEGIN:VEVENT
SUMMARY:Here we go again… - Dr Anne Robins on behalf of Dr Michael Allis
 on
DTSTART:20140924T123000Z
DTEND:20140924T130000Z
UID:TALK53746@talks.cam.ac.uk
CONTACT:Alexis Faulkner
DESCRIPTION:Transplantation (Liver Transplant)
LOCATION:William Harvey Lecture Theatre
END:VEVENT
END:VCALENDAR
