BEGIN:VCALENDAR
VERSION:2.0
PRODID:-//Talks.cam//talks.cam.ac.uk//
X-WR-CALNAME:Talks.cam
BEGIN:VEVENT
SUMMARY:Day 1 - 10th Cambridge - Princeton Workshop - For details of speak
 ers please see the full programme
DTSTART:20140926T120000Z
DTEND:20140926T174500Z
UID:TALK53763@talks.cam.ac.uk
CONTACT:Cerf Admin
DESCRIPTION:Since 2005\, Cambridge Finance has hosted a joint annual confe
 rence with the Bendheim Center\, Princeton University\, alternating betwee
 n Princeton (odd years) and Cambridge (even years).  The next event is due
  to take place in Cambridge\, 26-27 September 2014 at the Cambridge Judge 
 Business School.\n\nRegister to attend this event: "Registration and ticke
 ts - free event":https://www.eventbrite.co.uk/e/cambridge-princeton-annual
 -finance-event-26-27-september-2014-tickets-12617038903
LOCATION: W2.01\, Judge Business School\, Trumpington Street\, Cambridge C
 B2 1AG
END:VEVENT
END:VCALENDAR
