BEGIN:VCALENDAR
VERSION:2.0
PRODID:-//Talks.cam//talks.cam.ac.uk//
X-WR-CALNAME:Talks.cam
BEGIN:VEVENT
SUMMARY:Multidisciplinary design education in the USA - James Moultrie\, C
 entre for Technology Management\, IfM
DTSTART:20060929T090000Z
DTEND:20060929T094000Z
UID:TALK5392@talks.cam.ac.uk
CONTACT:Yongjiang Shi
DESCRIPTION:Abstract not available
LOCATION:Seminar Room B\, Engineering\, Institute for Manufacturing IfM
END:VEVENT
END:VCALENDAR
