BEGIN:VCALENDAR
VERSION:2.0
PRODID:-//Talks.cam//talks.cam.ac.uk//
X-WR-CALNAME:Talks.cam
BEGIN:VEVENT
SUMMARY:Representing microbial communities in Earth system models - Alliso
 n\, S (University of California\, Irvine)
DTSTART:20140904T130000Z
DTEND:20140904T140000Z
UID:TALK54020@talks.cam.ac.uk
CONTACT:Mustapha Amrani
DESCRIPTION:2014/09/04
LOCATION:Seminar Room 2\, Newton Institute Gatehouse
END:VEVENT
END:VCALENDAR
