BEGIN:VCALENDAR
VERSION:2.0
PRODID:-//Talks.cam//talks.cam.ac.uk//
X-WR-CALNAME:Talks.cam
BEGIN:VEVENT
SUMMARY:C. elegans development: getting the seams right and living a balan
 ced life. - Professor Alison Woollard\, Biochemistry Department\, Universi
 ty of Oxford
DTSTART:20141016T133000Z
DTEND:20141016T143000Z
UID:TALK54021@talks.cam.ac.uk
CONTACT:Caroline Newnham
DESCRIPTION:Abstract not available
LOCATION:Part II Room\, Department of Genetics
END:VEVENT
END:VCALENDAR
