BEGIN:VCALENDAR
VERSION:2.0
PRODID:-//Talks.cam//talks.cam.ac.uk//
X-WR-CALNAME:Talks.cam
BEGIN:VEVENT
SUMMARY:An inverse correlation of cell surface expression level and peptid
 e binding repertoire for MHC class I molecules is associated with disease 
 resistance in chickens and humans - Professor Jim Kaufman\, Department of 
 Pathology\, University of Cambridge
DTSTART:20141008T113000Z
DTEND:20141008T123000Z
UID:TALK54029@talks.cam.ac.uk
CONTACT:Sue Griffin
DESCRIPTION:Abstract not available
LOCATION:Lecture Theatre\, Department of Pathology\, Tennis Court Road
END:VEVENT
END:VCALENDAR
