BEGIN:VCALENDAR
VERSION:2.0
PRODID:-//Talks.cam//talks.cam.ac.uk//
X-WR-CALNAME:Talks.cam
BEGIN:VEVENT
SUMMARY:Hypervisor Verification in the PROSPER and HASPOC projects - Chris
 toph Baumann\, KTH
DTSTART:20140903T120000Z
DTEND:20140903T130000Z
UID:TALK54039@talks.cam.ac.uk
CONTACT:Peter Sewell
DESCRIPTION:Christoph Baumann from KTH talking about their new hypervisor 
 project\, targeting high assurance security products on COTS platforms.
LOCATION:FW11
END:VEVENT
END:VCALENDAR
