BEGIN:VCALENDAR
VERSION:2.0
PRODID:-//Talks.cam//talks.cam.ac.uk//
X-WR-CALNAME:Talks.cam
BEGIN:VEVENT
SUMMARY:LGB&amp\;T Welcome! Bonfire Night Social  - *
DTSTART:20141105T170000Z
DTEND:20141105T200000Z
UID:TALK54041@talks.cam.ac.uk
CONTACT:Equality &amp\; Diversity
DESCRIPTION:For more details:\n\n* www.facebook.com/events/645392885529617
  *
LOCATION:To be confirmed
END:VEVENT
END:VCALENDAR
