BEGIN:VCALENDAR
VERSION:2.0
PRODID:-//Talks.cam//talks.cam.ac.uk//
X-WR-CALNAME:Talks.cam
BEGIN:VEVENT
SUMMARY:&quot\;Development and disorders of axon wiring in the ocular moto
 r system: the role of alpha2-chimaerin &quot\; - Professor Sarah Guthrie\,
  Kings College London.
DTSTART:20141203T120000Z
DTEND:20141203T130000Z
UID:TALK54046@talks.cam.ac.uk
CONTACT:Shannon Tinley-Browne
DESCRIPTION:Talk chaired by Dr Philip Buttery
LOCATION:Brain Repair Centre\, Forvie Site\, Robinson Way
END:VEVENT
END:VCALENDAR
