BEGIN:VCALENDAR
VERSION:2.0
PRODID:-//Talks.cam//talks.cam.ac.uk//
X-WR-CALNAME:Talks.cam
BEGIN:VEVENT
SUMMARY:Tales from the Nozzle Bank: Inkjets and Bouncing Drops - Dr Steve 
 Hoath and John Horsley
DTSTART:20061013T103000Z
DTEND:20061013T113000Z
UID:TALK5406@talks.cam.ac.uk
CONTACT:Roger Baker
DESCRIPTION:Abstract not available
LOCATION:Seminar Room B\, Engineering\, Institute for Manufacturing IfM
END:VEVENT
END:VCALENDAR
