BEGIN:VCALENDAR
VERSION:2.0
PRODID:-//Talks.cam//talks.cam.ac.uk//
X-WR-CALNAME:Talks.cam
BEGIN:VEVENT
SUMMARY:&quot\;Organisation of PI3K/PTEN signalling in space and time: Imp
 lication for neuronal development and regeneration.&quot\; - Professor Bri
 tta Eickholt\, Insitute of Biochemistry\, Charite Universitatsmediz in Ber
 lin
DTSTART:20141112T120000Z
DTEND:20141112T130000Z
UID:TALK54078@talks.cam.ac.uk
CONTACT:Shannon Tinley-Browne
DESCRIPTION:Talk chaired by Professor James Fawcett
LOCATION:Brain Repair Centre\, Forvie Site\, Robinson Way
END:VEVENT
END:VCALENDAR
