BEGIN:VCALENDAR
VERSION:2.0
PRODID:-//Talks.cam//talks.cam.ac.uk//
X-WR-CALNAME:Talks.cam
BEGIN:VEVENT
SUMMARY:Cambridge Network event: Digital Marketing Clinic - Speaker to be 
 confirmed
DTSTART:20141105T080000Z
DTEND:20141105T103000Z
UID:TALK54250@talks.cam.ac.uk
CONTACT:30953
DESCRIPTION:Ever wondered what the differences between a responsive and a 
 mobile website are? And how do I know which one is best suited to my compa
 ny? What do the new Google algorithms mean (panda\, penguin\, hummingbird)
  and what do they mean for me? This workshop will explain everything you e
 ver wanted to know about digital but were afraid to ask!\n\nFeel like you 
 should know and understand what terms like Panda and Penguin\, SEO and Mob
 ile-Optimisation mean\, but\, as part of senior management\, haven’t yet
  found a comfortable forum in which to ask? On Wednesday 5 November John D
 ibb\, Head of Digital at KISS Communications\, will be running a Digital M
 arketing Clinic to answer your questions on all things digital.\n\nPlease 
 note this session is suited to those in Senior Management positions\, prov
 iding an environment\, away from the office\, in which to fully get to gri
 ps with the world of digital.\n\nTimings:\n\n08:00 Registration and networ
 king over coffee & bacon rolls\n\n08:30 Speaker: John Dibb\, Head of Digit
 al\, KISS Communications\n\n09:45 Further networking\n\n10:30 Event closes
 \n\nTo book on please click on this link - http://www.cambridgenetwork.co.
 uk/events/breakfast-workshop-digital-marketing-clinic/\n
LOCATION:Hauser Forum\, 3 Charles Babbage Road\, Cambridge\, CB3 0GT
END:VEVENT
END:VCALENDAR
