BEGIN:VCALENDAR
VERSION:2.0
PRODID:-//Talks.cam//talks.cam.ac.uk//
X-WR-CALNAME:Talks.cam
BEGIN:VEVENT
SUMMARY:The glass closet: why coming out is good business - Lord Browne of
  Madingley\, Member of the House of Lords and former Chief Executive of BP
DTSTART:20141008T180000Z
DTEND:20141008T190000Z
UID:TALK54263@talks.cam.ac.uk
CONTACT:Paul Ireland
DESCRIPTION:Today gay men and women in the Western world enjoy greater acc
 eptance and legal protections than ever before. Yet an alarming number of 
 businessmen and women choose to remain closeted at work. Lord Browne\, the
  former chief executive of BP\, will discuss his book _The Glass Closet_\,
  in which he explores what holds them back. Drawing on his experiences as 
 a closeted gay man in the oil industry\, and the experiences of other prom
 inent executives from around the world\, he argues that coming out is best
  for employees and the companies that support them.\n\n*Booking*\n\nBookin
 g is essential as places are limited:\n\n"Book online via the ICE website"
 :http://www.ice.cam.ac.uk/what-we-do/madingley-lectures/booking-form
LOCATION:Institute of Continuing Education\, Madingley Hall
END:VEVENT
END:VCALENDAR
