BEGIN:VCALENDAR
VERSION:2.0
PRODID:-//Talks.cam//talks.cam.ac.uk//
X-WR-CALNAME:Talks.cam
BEGIN:VEVENT
SUMMARY:Regulation of the positional stability of neurons: why you need gl
 ia - Matthieu Vermeren\, PDN
DTSTART:20061108T161500Z
DTEND:20061108T170000Z
UID:TALK5427@talks.cam.ac.uk
CONTACT:Rick Livesey
DESCRIPTION:Abstract not available
LOCATION:Gurdon Institute Tearoom
END:VEVENT
END:VCALENDAR
