BEGIN:VCALENDAR
VERSION:2.0
PRODID:-//Talks.cam//talks.cam.ac.uk//
X-WR-CALNAME:Talks.cam
BEGIN:VEVENT
SUMMARY:New brain cells for old - neurogenesis in the adult brain: what ha
 ppens and does it matter? - Prof. Joe Herbert\, Department of Physiology\,
  Development &amp\; Neuroscience
DTSTART:20061109T160000Z
DTEND:20061109T170000Z
UID:TALK5448@talks.cam.ac.uk
CONTACT:Nick Riddle
DESCRIPTION:Abstract not available
LOCATION:Anatomy Lecture Theatre
END:VEVENT
END:VCALENDAR
