BEGIN:VCALENDAR
VERSION:2.0
PRODID:-//Talks.cam//talks.cam.ac.uk//
X-WR-CALNAME:Talks.cam
BEGIN:VEVENT
SUMMARY:Transplanting Dead Hearts - Dr Simon Messer and Dr Vicki Pell on b
 ehalf of  Professor Ian Wilkinson
DTSTART:20150715T120000Z
DTEND:20150715T123000Z
UID:TALK54591@talks.cam.ac.uk
CONTACT:Alexis Faulkner
DESCRIPTION:Abstract not available
LOCATION:William Harvey Lecture Theatre
END:VEVENT
END:VCALENDAR
