BEGIN:VCALENDAR
VERSION:2.0
PRODID:-//Talks.cam//talks.cam.ac.uk//
X-WR-CALNAME:Talks.cam
BEGIN:VEVENT
SUMMARY:Entropic Utopia: Shaping disorder for targeted self-assembly - Pab
 lo F. Damasceno\, University of Michigan\, Ann Arbor\, Michigan\, USA
DTSTART:20141107T120000Z
DTEND:20141107T130000Z
UID:TALK54817@talks.cam.ac.uk
CONTACT:Dr. Judith B. Rommel
DESCRIPTION:The main goal of targeted self-assembly is to spontaneously or
 ganize building blocks into a desired pattern by manipulating their local 
 interactions with each other and their environment. Entropic forces can\, 
 despite being common and erroneously associated with disorder\, be used to
  assemble a myriad of highly complex equilibrium structures. In this talk 
 I will demonstrate how directional entropic forces can be used to predicta
 bly self-assemble many structures of current interest and how Entropy play
 s a significant role in processes ranging from packing to folding.\n\n# Da
 masceno\, Engel & Glotzer. Science (2012)\n# Damasceno\, Engel & Glotzer. 
 ACS Nano (2011)\n# Chen\, Klotsa\, Engel\, Damasceno & Glotzer. PRX (2014)
LOCATION:Pfizer Lecture Theatre\,  Department of Chemistry
END:VEVENT
END:VCALENDAR
